BEGIN:VCALENDAR
VERSION:2.0
PRODID:-//Library Market//iCal Export//EN
BEGIN:VEVENT
SUMMARY:Kids&#039; Creative Space
UID:17847
DTSTAMP:20260424T173000Z
DTSTART:20260707T223000Z
DTEND:20260707T233000Z
LOCATION:620 Cedar Avenue, Port Hadlock, WA 98339, United States
ROOM: Humphrey Room
DESCRIPTION:Join us on the 1st and 3rd Tuesday of each month for a fun aft
 ernoon of arts, crafts, and creativity. This program is for children ages 
 4-8 and their families.
URL:https://www.jclibrary.info/event/kids-creative-space-17847
END:VEVENT
END:VCALENDAR
