BEGIN:VCALENDAR
VERSION:2.0
PRODID:-//Library Market//iCal Export//EN
BEGIN:VEVENT
SUMMARY:No Early Learning Programs May 25-29. Storytimes will move OUTDOOR
 S beginning June 1!
UID:17844
DTSTAMP:20260424T192100Z
DTSTART:20260525T070000Z
DTEND:20260529T070000Z
LOCATION:Jefferson County Library District, 620 Cedar Avenue, Port Hadlock
 -Irondale, WA 98339, United States
ROOM: No Early Learning Programs May 25-29. Storytimes will move OUTDOORS 
 beginning June 1!
DESCRIPTION:There will be no Early Learning programs from May 25 to 29. St
 orytimes will move outdoors beginning June 1, and Babytime will return to 
 the Library on June 3. Happy Reading!
URL:https://www.jclibrary.info/event/no-early-learning-programs-may-25-29-
 storytimes-will-move-outdoors-beginning-june-1-17844
END:VEVENT
END:VCALENDAR
