BEGIN:VCALENDAR
VERSION:2.0
PRODID:-//Library Market//iCal Export//EN
BEGIN:VEVENT
SUMMARY:Board of Trustees Special Meeting- Commissioners Breakfast
UID:17815
DTSTAMP:20260421T133700Z
DTSTART:20260605T153000Z
DTEND:20260605T163000Z
LOCATION:620 Cedar Avenue, Port Hadlock, WA 98339, United States
ROOM: Humphrey Room
DESCRIPTION:Meeting of Library Board of Trustees and Jefferson County Comm
 issioners with a presentation of the Annual Report.All board meetings are 
 open to the public.Agenda (posted one week prior to meeting)Members of the
  public are welcome to attend. Public comment may be made by sending an em
 ail to: director@jclibrary.info prior to 10:00 am on the day before the 
 meeting. Comments will be read aloud during the “Public Comment” secti
 on of the Board Meeting.
URL:https://www.jclibrary.info/event/board-trustees-special-meeting-commis
 sioners-breakfast-17815
END:VEVENT
END:VCALENDAR
