BEGIN:VCALENDAR
VERSION:2.0
PRODID:-//Library Market//iCal Export//EN
BEGIN:VEVENT
SUMMARY:Adult Summer Read: Author Talk with Thor Hanson
UID:17812
DTSTAMP:20260421T131600Z
DTSTART:20260902T233000Z
DTEND:20260903T010000Z
LOCATION:620 Cedar Avenue, Port Hadlock, WA 98339, United States
ROOM: Humphrey Room
DESCRIPTION:Join Thor Hanson, author of JCL&#039;s 2026 Adult Summer Read,
  as he speaks about his latest book, Close to Home: the wonders of nature 
 just outside your door.&quot;We all live on nature&#039;s doorstep, but we
  often overlook it. From backyards to local parks, the natural places we s
 ee the most may well be the ones we know the least. In Close to Home, biol
 ogist Thor Hanson shows how retraining our eyes reveals hidden wonders jus
 t waiting to be discovered. In urban Los Angeles, hundreds of unknown spec
 ies abound. In the Pacific Northwest, fierce yellowjackets placidly sip ho
 neydew, unseen in the treetops. And in the soil beneath our feet, remedies
  for everything from breast cancer to the stench of skunks lie waiting for
  someone&#039;s searching shovel. Close to Home is a hands-on natural hist
 ory for any local patch of Earth. It shows that we each can contribute to 
 science and improve the health of our planet. And even more, it proves tha
 t the wonders of nature don&#039;t lie in some far-off land: they await us
 , close to home&quot;About the AuthorThor Hanson was born and raised in th
 e Pacific Northwest, where he now lives on an island with his wife and son
 . He caught his first salmon at age four and often collected a wide array 
 of temporary summertime pets, from caterpillars and tadpoles to garter sna
 kes, hermit crabs, and tree frogs. His early interest in the natural world
  steered him towards a career in conservation biology. Â Hanson received h
 is bachelorâ€™s degree from the University of Redlands, his masterâ€™s fro
 m the University of Vermontâ€™s Field Naturalist Program, and his doctorat
 e in a joint program through the University of Idaho and the Centro AgronÃ
 ³mico Tropical de InvestigaciÃ³n y EnseÃ±anza, Costa Rica.Registration is 
 required.Â 
URL:https://www.jclibrary.info/event/adult-summer-read-author-talk-thor-ha
 nson-17812
END:VEVENT
END:VCALENDAR
