BEGIN:VCALENDAR
VERSION:2.0
PRODID:-//Library Market//iCal Export//EN
BEGIN:VEVENT
SUMMARY:Adult Summer Reading Program &amp; Summer Read!
UID:17811
DTSTAMP:20260424T192100Z
DTSTART:20260601T070000Z
DTEND:20260831T070000Z
LOCATION:Jefferson County Library District, Port Hadlock, WA 98339, United
  States
ROOM: Adult Summer Reading Program &amp; Summer Read!
DESCRIPTION:Plant a seed, read—and let your reading grow! Don&#039;t mis
 s this year&#039;s Adult Summer Reading Program:Play Plant-A-Seed Book Bin
 goPick up a bingo card at the Library, or any Bookmobile stop. Join our Bo
 ok Bingo challenge and explore new genres, discover fresh authors, and bra
 nch out into stories you might not have picked before. Earn a Bingo to rec
 eive a free Blind-Date-With-A-Book package filled with mystery titles. Ear
 n a Blackout and receive a swanky Jefferson County Library District tote b
 ag. For extra fun, you can color your bingo card, write in your titles, an
 d share your artwork with the community.   Adult Summer ReadClose to Ho
 me: The Wonders of Nature Just Outside Your Door by Thor HansonGet the Boo
 kWe all live on nature&#039;s doorstep, but we often overlook it. From bac
 kyards to local parks, the natural places we see the most may well be the 
 ones we know the least. In Close to Home, biologist Thor Hanson shows how
  retraining our eyes reveals hidden wonders just waiting to be discovered.
  In urban Los Angeles, hundreds of unknown species abound. In the Pacific 
 Northwest, fierce yellowjackets placidly sip honeydew, unseen in the treet
 ops. And in the soil beneath our feet, remedies for everything from breast
  cancer to the stench of skunks lie waiting for someone&#039;s searching s
 hovel. Close to Home is a hands-on natural history for any local patch of
  Earth. It shows that we each can contribute to science and improve the he
 alth of our planet. And even more, it proves that the wonders of nature do
 n&#039;t lie in some far-off land: they await us, close to home.  Meet T
 hor HansonWednesday, September 24:30 – 6:00 pmRegister to meet Thor Hans
 onJoin Thor Hanson, author of JCLD&#039;s 2026 Adult Summer Read, as he sp
 eaks about Close to Home. In addition to being an author, Thor is a biolog
 ist, Guggenheim Fellow, Switzer Environmental Fellow, and winner of the Jo
 hn Burroughs Medal. Thor’s work has been translated into a dozen languag
 es and earned many accolades. He currently lives with his family on an isl
 and in the Pacific Northwest. Registration required. Learn more about Thor
  Hanson.
URL:https://www.jclibrary.info/event/adult-summer-reading-program-summer-r
 ead-17811
END:VEVENT
END:VCALENDAR
