BEGIN:VCALENDAR
VERSION:2.0
PRODID:-//Library Market//iCal Export//EN
BEGIN:VEVENT
SUMMARY:Kids Summer Fun at Worthington Park - Paper Airplane Party
UID:17787
DTSTAMP:20260424T181300Z
DTSTART:20260721T183000Z
DTEND:20260721T193000Z
LOCATION:Worthington Park, 151 E Columbia St, Quilcene, WA 98376, United S
 tates
ROOM: Kids Summer Fun at Worthington Park - Paper Airplane Party
DESCRIPTION:Explore different airplane styles, test them against each othe
 r, and discover some cool new techniques! The Ultra-brave can try an ulti
 mate dragon flyer design.
URL:https://www.jclibrary.info/event/kids-summer-fun-worthington-park-pape
 r-airplane-party-17787
END:VEVENT
END:VCALENDAR
