BEGIN:VCALENDAR
VERSION:2.0
PRODID:-//Library Market//iCal Export//EN
BEGIN:VEVENT
SUMMARY:Kids Summer Fun at Worthington Park - Magician Brian Ledbetter
UID:17786
DTSTAMP:20260424T181300Z
DTSTART:20260714T183000Z
DTEND:20260714T193000Z
LOCATION:Worthington Park, 151 E Columbia St, Quilcene, WA 98376, United S
 tates
ROOM: Kids Summer Fun at Worthington Park - Magician Brian Ledbetter
DESCRIPTION:Mindreader? Magician? Mentalist? Brian Ledbetter’s wild tale
 nts will blow your mind. From bending metal to reading thoughts, his inter
 active show mixes comedy, mystery, and illusion for an unforgettable exper
 ience. Expect the unexpected and prepare to be amazed! Learn More about B
 rian Ledbetter
URL:https://www.jclibrary.info/event/kids-summer-fun-worthington-park-magi
 cian-brian-ledbetter-17786
END:VEVENT
END:VCALENDAR
