BEGIN:VCALENDAR
VERSION:2.0
PRODID:-//Library Market//iCal Export//EN
BEGIN:VEVENT
SUMMARY:Kids Summer Fun at Worthington Park - Create a Peanut Pal
UID:17785
DTSTAMP:20260424T172100Z
DTSTART:20260707T183000Z
DTEND:20260707T193000Z
LOCATION:Worthington Park, 151 E Columbia St, Quilcene, WA 98376, United S
 tates
ROOM: Kids Summer Fun at Worthington Park - Create a Peanut Pal
DESCRIPTION:What can a peanut be? Anything!Â Use the simple shells as a ba
 se for creatures, beings, or anything else your imagination can make. Weâ€
 ™ll have wooden skewers for limbs, markers for some color, and googly eyes
  for personality.Â 
URL:https://www.jclibrary.info/event/kids-summer-fun-worthington-park-crea
 te-peanut-pal-17785
END:VEVENT
END:VCALENDAR
