BEGIN:VCALENDAR
VERSION:2.0
PRODID:-//Library Market//iCal Export//EN
BEGIN:VEVENT
SUMMARY:Kids Summer Fun at Worthington Park- Create a Moss Ball Seed Start
 er
UID:17784
DTSTAMP:20260424T172100Z
DTSTART:20260630T183000Z
DTEND:20260630T193000Z
LOCATION:Worthington Park, 151 E Columbia St, Quilcene, WA 98376, United S
 tates
ROOM: Kids Summer Fun at Worthington Park- Create a Moss Ball Seed Starter
DESCRIPTION:Wrap some seeds in paper and moss to make a hanging ball of fl
 owers. Practice measuring seeds and shaping different textures to enclose 
 them. Then take good care of your plants to keep them healthy and growing
  all summer. 
URL:https://www.jclibrary.info/event/kids-summer-fun-worthington-park-crea
 te-moss-ball-seed-starter-17784
END:VEVENT
END:VCALENDAR
