BEGIN:VCALENDAR
VERSION:2.0
PRODID:-//Library Market//iCal Export//EN
BEGIN:VEVENT
SUMMARY:Kids Summer Fun at Worthington Park - Discover the Spin with Hilli
 a Hula
UID:17783
DTSTAMP:20260424T172100Z
DTSTART:20260623T183000Z
DTEND:20260623T193000Z
LOCATION:Worthington Park, 151 E Columbia St, Quilcene, WA 98376, United S
 tates
ROOM: Kids Summer Fun at Worthington Park - Discover the Spin with Hillia 
 Hula
DESCRIPTION:Unlock the power of movement and creativity. Hillia uses the u
 niversal joy of the hula hoop to get bodies active and minds inspired. Thi
 s dynamic event brings physical education to life, fostering perseverance 
 and creative problem solving. Learn More: Hillia Hula Hoop Extraordinaire
  
URL:https://www.jclibrary.info/event/kids-summer-fun-worthington-park-disc
 over-spin-hillia-hula-17783
END:VEVENT
END:VCALENDAR
