BEGIN:VCALENDAR
VERSION:2.0
PRODID:-//Library Market//iCal Export//EN
BEGIN:VEVENT
SUMMARY:Kids Summer Fun at H.J. Carroll Park - Science Heroes!
UID:17776
DTSTAMP:20260424T181300Z
DTSTART:20260727T183000Z
DTEND:20260727T193000Z
LOCATION:H.J. Carroll Park Rotary Pavilion, 9884 WA-19, Chimacum, WA 98325
 , United States
ROOM: Kids Summer Fun at H.J. Carroll Park - Science Heroes!
DESCRIPTION:Unearth your curiosity as we dig into the incredible science t
 hat’s all around us!Harness the power of pressure and energy with our To
 ilet Tornado™!Experiment with physical vs. chemical changes with our Dis
 appearing Polymer™!Observe the effects of physical explosions, angles, a
 nd trajectory with our Hydro-Cannon™!And more!If you didn’t already lo
 ve science, you’ll really ‘dig it’ after experiencing Science Heroes
 !Like all our programs, “Digging It!” features tons of audience intera
 ction and opportunities for your children to volunteer.Learn More: Science
  Heroes
URL:https://www.jclibrary.info/event/kids-summer-fun-hj-carroll-park-scien
 ce-heroes-17776
END:VEVENT
END:VCALENDAR
