BEGIN:VCALENDAR
VERSION:2.0
PRODID:-//Library Market//iCal Export//EN
BEGIN:VEVENT
SUMMARY:Kids Summer Fun at H.J. Carroll Park - Paper Airplane Party
UID:17775
DTSTAMP:20260424T181300Z
DTSTART:20260720T183000Z
DTEND:20260720T193000Z
LOCATION:H.J. Carroll Park Rotary Pavilion, 9884 WA-19, Chimacum, WA 98325
 , United States
ROOM: Kids Summer Fun at H.J. Carroll Park - Paper Airplane Party
DESCRIPTION:Explore different airplane styles, test them against each othe
 r, and discover some cool new techniques! The Ultra-brave can try an ulti
 mate dragon flyer design.
URL:https://www.jclibrary.info/event/kids-summer-fun-hj-carroll-park-paper
 -airplane-party-17775
END:VEVENT
END:VCALENDAR
