BEGIN:VCALENDAR
VERSION:2.0
PRODID:-//Library Market//iCal Export//EN
BEGIN:VEVENT
SUMMARY:Kids Summer Fun at H.J. Carroll Park - Magician Brian Ledbetter
UID:17774
DTSTAMP:20260424T181300Z
DTSTART:20260713T183000Z
DTEND:20260713T193000Z
LOCATION:H.J. Carroll Park Rotary Pavilion, 9884 WA-19, Chimacum, WA 98325
 , United States
ROOM: Kids Summer Fun at H.J. Carroll Park - Magician Brian Ledbetter
DESCRIPTION:Mindreader? Magician? Mentalist? Brian Ledbetter’s wild tale
 nts will blow your mind. From bending metal to reading thoughts, his inter
 active show mixes comedy, mystery, and illusion for an unforgettable exper
 ience. Expect the unexpected and prepare to be amazed!Learn More about Bri
 an Ledbetter
URL:https://www.jclibrary.info/event/kids-summer-fun-hj-carroll-park-magic
 ian-brian-ledbetter-17774
END:VEVENT
END:VCALENDAR
