BEGIN:VCALENDAR
VERSION:2.0
PRODID:-//Library Market//iCal Export//EN
BEGIN:VEVENT
SUMMARY:Kids Summer Fun at H.J Carroll Park - Create a Peanut Pal
UID:17773
DTSTAMP:20260424T172100Z
DTSTART:20260706T183000Z
DTEND:20260706T193000Z
LOCATION:H.J. Carroll Park Rotary Pavilion, 9884 WA-19, Chimacum, WA 98325
 , United States
ROOM: Kids Summer Fun at H.J Carroll Park - Create a Peanut Pal
DESCRIPTION:What can a peanut be? Anything!Â Use the simple shells as a ba
 se for creatures, beings, or anything else your imagination can make. Weâ€
 ™ll have wooden skewers for limbs, markers for some color, and googly eyes
  for personality.Â 
URL:https://www.jclibrary.info/event/kids-summer-fun-hj-carroll-park-creat
 e-peanut-pal-17773
END:VEVENT
END:VCALENDAR
