BEGIN:VCALENDAR
VERSION:2.0
PRODID:-//Library Market//iCal Export//EN
BEGIN:VEVENT
SUMMARY:Kids Summer Fun at H.J. Carroll Park- Create a Moss Ball Seed Star
 ter
UID:17772
DTSTAMP:20260424T172100Z
DTSTART:20260629T183000Z
DTEND:20260629T193000Z
LOCATION:H.J. Carroll Park Rotary Pavilion, 9884 WA-19, Chimacum, WA 98325
 , United States
ROOM: Kids Summer Fun at H.J. Carroll Park- Create a Moss Ball Seed Starte
 r
DESCRIPTION:Wrap some seeds in paper and moss to make a hanging ball of fl
 owers. Practice measuring seeds and shaping different textures to enclose 
 them. Then take good care of your plants to keep them healthy and growing
  all summer. 
URL:https://www.jclibrary.info/event/kids-summer-fun-hj-carroll-park-creat
 e-moss-ball-seed-starter-17772
END:VEVENT
END:VCALENDAR
