BEGIN:VCALENDAR
VERSION:2.0
PRODID:-//Library Market//iCal Export//EN
BEGIN:VEVENT
SUMMARY:Kids Summer Fun at H.J. Carroll Park - Discover the Spin with Hill
 ia Hula
UID:17771
DTSTAMP:20260424T172100Z
DTSTART:20260622T183000Z
DTEND:20260622T193000Z
LOCATION:H.J. Carroll Park Rotary Pavilion, 9884 WA-19, Chimacum, WA 98325
 , United States
ROOM: Kids Summer Fun at H.J. Carroll Park - Discover the Spin with Hillia
  Hula
DESCRIPTION:Unlock the power of movement and creativity. Hillia uses the u
 niversal joy of the hula hoop to get bodies active and minds inspired. Thi
 s dynamic event brings physical education to life, fostering perseverance 
 and creative problem solving. Learn More: Hillia Hula Hoop Extraordinaire
URL:https://www.jclibrary.info/event/kids-summer-fun-hj-carroll-park-disco
 ver-spin-hillia-hula-17771
END:VEVENT
END:VCALENDAR
