BEGIN:VCALENDAR
VERSION:2.0
PRODID:-//Library Market//iCal Export//EN
BEGIN:VEVENT
SUMMARY:Plant a Seed: Read! Summer Reading FUN for Teens &amp; Kids
UID:17723
DTSTAMP:20260424T192700Z
DTSTART:20260601T070000Z
DTEND:20260831T070000Z
LOCATION:620 Cedar Ave, Port Hadlock, WA 98339, United States
ROOM: Plant a Seed: Read! Summer Reading FUN for Teens &amp; Kids
DESCRIPTION:Itâ€™s easy to play, just read every day!Click HERE to sign up
 !Donâ€™t miss JCLDâ€™s Summer Reading with programs and events for kids of
  all ages! Sign up at cleoreads.beanstack.com or pick up a paper tracker a
 t the Library or Bookmobile to get started. Earn rewards for your reading 
 and celebrate fun events at the park this summer. Check out the links belo
 w for information about Storytimes, crafts, and activities.Â Log each day 
 you read.Earn a new book to keep after 25 days of reading.Earn a mini myst
 ery block build kit after 50 days of reading.Â Attend fun events at your l
 ocal park, June 22â€“July 28Â Complete extra activities for a chance to wi
 n a kids&#039; prize kit.Join Summer Fun Activities for Kids of ALL Ages!Â
  Teen Summer Fun at the LibraryÂ Kids Summer Fun at H.J. Carroll Park in C
 himacumÂ Kids Summer Fun at Worthington Park in QuilceneÂ Outdoor Storytim
 e at H.J. Carroll Park in ChimacumÂ Outdoor Storytime at Worthington Park 
 in QuilceneÂ Special THANKS to the Friends of Jefferson County Library for
  funding the prizes.
URL:https://www.jclibrary.info/event/plant-seed-read-summer-reading-fun-te
 ens-kids-17723
END:VEVENT
END:VCALENDAR
