BEGIN:VCALENDAR
VERSION:2.0
PRODID:-//Library Market//iCal Export//EN
BEGIN:VEVENT
SUMMARY:Summer Reading Program: Teen Dungeons and Dragons
UID:17429
DTSTAMP:20260424T181300Z
DTSTART:20260722T210000Z
DTEND:20260723T000000Z
LOCATION:620 Cedar Avenue, Port Hadlock, WA 98339, United States
ROOM: Shold Room
DESCRIPTION:Play real time to shape a one-of-a-kind story. You are the cha
 racters, and you drive the action. Every session is a new adventure! Come 
 hang out with us as we explore a magical world full of drama and danger, D
 ungeons and Dragons. This tabletop gameplay will start with a session to 
 build characters and establish the world of play. Each following session w
 ill have a structure for adventure, building characters and relationships 
 over the summer. Can you rescue the mystical volumes and discover who stol
 e them? Registration is for the full summer series! Space is limited. Ple
 ase mention any known conflicts. 
URL:https://www.jclibrary.info/event/summer-reading-program-teen-dungeons-
 and-dragons-17429
END:VEVENT
END:VCALENDAR
