BEGIN:VCALENDAR
VERSION:2.0
PRODID:-//Library Market//iCal Export//EN
BEGIN:VEVENT
SUMMARY:Read to Rover
UID:17403
DTSTAMP:20260424T181300Z
DTSTART:20260723T173000Z
DTEND:20260723T174500Z
LOCATION:620 Cedar Avenue, Port Hadlock, WA 98339, United States
ROOM: Humphrey Room B (back - large half)
DESCRIPTION:These dogs are wonderful listeners! Bring your favorite book 
 or choose one from the library, then build reading skills and confidence b
 y reading aloud to a certified therapy dog. Space is limited, visit jclib
 rary.info or call (360) 385-6544 to register for a 20-minute session.Learn
  More: READ to ROVER | Olympic Mountain Pet Pals
URL:https://www.jclibrary.info/event/read-rover-17403
END:VEVENT
END:VCALENDAR
