BEGIN:VCALENDAR
VERSION:2.0
PRODID:-//Library Market//iCal Export//EN
BEGIN:VEVENT
SUMMARY:JCLD In-Person and Online Book Discussion &quot;Reindeer of Chines
 e Gardens&quot; by Barbara Sjoholm
UID:15489
DTSTAMP:20260421T114000Z
DTSTART:20261113T014500Z
DTEND:20261113T030000Z
LOCATION:620 Cedar Avenue, Port Hadlock, WA 98339, United States
ROOM: Humphrey Room
DESCRIPTION:This month: &quot;Reindeer of Chinese Gardens&quot; by Barbara
  SjoholmSign up for our monthly book discussion! We meet every 2nd Thursda
 y of the month, and you can meet with the group in person or online. Whe
 n you sign up, the library will loan you a copy of the book.Upcoming Book 
 DiscussionsPlease read the entire book before the group meets. Email Cath
 y Adler at cadler@jclibrary.info to ask questions or join the group.A Zo
 om link will be emailed to online participants the week before the event.
URL:https://www.jclibrary.info/event/jcld-person-and-online-book-discussio
 n-reindeer-chinese-gardens-barbara-sjoholm-15489
END:VEVENT
END:VCALENDAR
