BEGIN:VCALENDAR
VERSION:2.0
PRODID:-//Library Market//iCal Export//EN
BEGIN:VEVENT
SUMMARY:JCLD In-Person and Online Book Discussion &quot;Life Impossible&qu
 ot; by Matt Haig
UID:15487
DTSTAMP:20260421T101600Z
DTSTART:20260911T004500Z
DTEND:20260911T020000Z
LOCATION:620 Cedar Avenue, Port Hadlock, WA 98339, United States
ROOM: Humphrey Room
DESCRIPTION:This month: &quot;Life Impossible&quot; by Matt HaigSign up fo
 r our monthly book discussion! We meet every 2nd Thursday of the month, an
 d you can meet with the group in person or online. When you sign up, the
  library will loan you a copy of the book.Upcoming Book DiscussionsPlease 
 read the entire book before the group meets. Email Cathy Adler at cadler
 @jclibrary.info to ask questions or join the group.A Zoom link will be em
 ailed to online participants the week before the event.
URL:https://www.jclibrary.info/event/jcld-person-and-online-book-discussio
 n-life-impossible-matt-haig-15487
END:VEVENT
END:VCALENDAR
