BEGIN:VCALENDAR
VERSION:2.0
PRODID:-//Library Market//iCal Export//EN
BEGIN:VEVENT
SUMMARY:JCLD In-Person and Online Book Discussion &quot;Killers of the Flo
 wer Moon&quot; by David Grann
UID:15485
DTSTAMP:20260421T114000Z
DTSTART:20260710T004500Z
DTEND:20260710T020000Z
LOCATION:620 Cedar Avenue, Port Hadlock, WA 98339, United States
ROOM: Humphrey Room
DESCRIPTION:This month: &quot;Killers of the Flower Moon&quot; by David Gr
 annSign up for our monthly book discussion! We meet every 2nd Thursday of 
 the month, and you can meet with the group in person or online. When you
  sign up, the library will loan you a copy of the book.Upcoming Book Discu
 ssionsPlease read the entire book before the group meets. Email Cathy Adl
 er at cadler@jclibrary.info to ask questions or join the group.A Zoom li
 nk will be emailed to online participants the week before the event.
URL:https://www.jclibrary.info/event/jcld-person-and-online-book-discussio
 n-killers-flower-moon-david-grann-15485
END:VEVENT
END:VCALENDAR
